BEGIN:VCALENDAR
VERSION:2.0
PRODID:-//Tukios.com/
BEGIN:VEVENT
UID:4821a218-58ce-420b-8e6b-ab938de132f5@www.parzynskifuneralhome.com
DTSTAMP:20260424T002016Z
DTSTART:20260426T180000Z
DTEND:20260426T210000Z
SUMMARY:Visitation
DESCRIPTION:
URL:https://www.parzynskifuneralhome.com/obituaries/eleanor-bullied
LOCATION: 191 Liberty Street  Perryopolis PA 15473
GEO:40.0840808;-79.7515976
END:VEVENT
END:VCALENDAR