BEGIN:VCALENDAR
VERSION:2.0
PRODID:-//Tukios.com/
BEGIN:VEVENT
UID:a5b07fcb-c873-4bc4-8fa3-0086a028b9a5@www.parzynskifuneralhome.com
DTSTAMP:20260424T002229Z
DTSTART:20260426T210000Z
DTEND:20260426T213000Z
SUMMARY:Funeral Service
DESCRIPTION:
URL:https://www.parzynskifuneralhome.com/obituaries/eleanor-bullied
LOCATION: 191 Liberty Street  Perryopolis PA 15473
GEO:40.0840808;-79.7515976
END:VEVENT
END:VCALENDAR