BEGIN:VCALENDAR
VERSION:2.0
PRODID:-//Tukios.com/
BEGIN:VEVENT
UID:d70a8e77-8f8a-4e3a-a6b7-553331d81104@www.parzynskifuneralhome.com
DTSTAMP:20260420T125411Z
DTSTART:20260416T180000Z
DTEND:20260416T200000Z
SUMMARY:Visitation
DESCRIPTION:
URL:https://www.parzynskifuneralhome.com/obituaries/michael-elwell
LOCATION: 191 Liberty Street  Perryopolis PA 15473
GEO:40.0840808;-79.7515976
END:VEVENT
END:VCALENDAR